BEGIN:VCALENDAR
VERSION:2.0
PRODID:-//wp-events-plugin.com//7.2.2.1//EN
TZID:America/Toronto
X-WR-TIMEZONE:America/Toronto
BEGIN:VEVENT
UID:174@womenshealthresearchcluster.com
DTSTART;TZID=America/Toronto:20250428T130000
DTEND;TZID=America/Toronto:20250428T143000
DTSTAMP:20250507T163819Z
URL:https://womenshealthresearchcluster.com/events/a-multidisciplinary-loo
 k-at-menopause/
SUMMARY:A Multidisciplinary Look at Menopause
DESCRIPTION:\n\nThis session highlighted emerging researchers exploring men
 opause from a multidisciplinary perspective\, offering fresh insights into
  this crucial stage of life. Our panel of early-career scientists presente
 d their latest findings\, covering diverse topics in menopause research.\n
 \nWhere?\n\nCAMH - 1025 Queen St. West\n\nToronto\, ON\n\nWhy attend?\n\n 
 	Gain insights into cutting-edge menopause research\n 	Connect with emergi
 ng researchers in the field\n 	Participate in discussions that advance kno
 wledge and innovation\n 	Choose how you attend – join us in person or vi
 rtually!\n\nThe Speakers\n\nMadeline Wood - Menopause and dementia: How m
 idlife hormonal factors shape the aging female brain\n\nTallinn Splinter -
  The Combined Influence of Earlier Menopause and Cardiac Function on Brain
  Health\n\nKatie Vandeloo - Exploring the role of menopause in brain healt
 h and cognition with age using latent profile analysis\n\nZachary Plumley 
 - Estradiol Enhances Neurovascular Coupling Independent of Metabolic Healt
 h Status at Menopause\n\nMarta Kolbuszewska - Biopsychosocial predictors o
 f sexual function in menopause: a systematic review\n\nDr. Natalie Scime -
  Association of lifetime lactation and characteristics of menopause: a lon
 gitudinal cohort study
ATTACH;FMTTYPE=image/jpeg:https://womenshealthresearchcluster.com/wp-conte
 nt/uploads/2025/03/Copy-of-TRP-April-2025-1.png
CATEGORIES:Trainee Research Presentation
LOCATION:https://ubc.zoom.us/j/64797000484?pwd=5AMoiA8HCbYLjeMQuOeJpIv7aa9F
 eA.1%20
END:VEVENT
BEGIN:VTIMEZONE
TZID:America/Toronto
X-LIC-LOCATION:America/Toronto
BEGIN:DAYLIGHT
DTSTART:20250309T030000
TZOFFSETFROM:-0500
TZOFFSETTO:-0400
TZNAME:EDT
END:DAYLIGHT
END:VTIMEZONE
END:VCALENDAR