BEGIN:VCALENDAR
VERSION:2.0
PRODID:-//wp-events-plugin.com//7.2.2.1//EN
TZID:America/Toronto
X-WR-TIMEZONE:America/Toronto
BEGIN:VEVENT
UID:186@womenshealthresearchcluster.com
DTSTART;TZID=America/Toronto:20251114T130000
DTEND;TZID=America/Toronto:20251114T143000
DTSTAMP:20251114T135836Z
URL:https://womenshealthresearchcluster.com/events/hormonal-contraceptives
 -insights-from-across-the-field/
SUMMARY:Hormonal Contraceptives: Insights from Across the Field
DESCRIPTION:This session will highlight emerging researchers exploring horm
 onal contraception from a multidisciplinary perspective\, offering fresh i
 nsights into this critical area of health. Our panel of early-career scien
 tists will present their latest work\, covering diverse topics in hormonal
  contraception research.\n\nWhere?\n\nOnline\n\nWhy attend?\n\n 	Gain insi
 ghts into cutting-edge contraception research\n 	Connect with emerging res
 earchers in the field\n 	Participate in discussions that advance knowledge
  and innovation\n\nThe Speakers\n\nHolly MacDonald – A Critical Discours
 e Analysis of Ontario's 2019 Sex Education Curriculum's Risk-Centred Frame
 work's Impact on Students' Access to Contraceptives\n\nTendo Babirye – B
 irth Control Access in Corrections\n\nAlice Mei – Contraceptive Use in B
 ritish Columbia BC from 2001-2021\n\nAlison Randell – Levonorgestrel Red
 uces Sex Differences in Tests of Anxiety-Like Behaviour in Long-Evans Rats
 \n\nMelanie Kowalczyk – Anxiety and depression in women cycling naturall
 y and women taking oral contraceptives\n\nDr. Jesse Lacasse – Identifyin
 g age-related biomarkers of depression after hormonal contraceptive exposu
 re\n\nRegister here
ATTACH;FMTTYPE=image/jpeg:https://womenshealthresearchcluster.com/wp-conte
 nt/uploads/2025/10/TRP-Youtube-2.png
CATEGORIES:Trainee Research Presentation
END:VEVENT
BEGIN:VTIMEZONE
TZID:America/Toronto
X-LIC-LOCATION:America/Toronto
BEGIN:STANDARD
DTSTART:20251102T010000
TZOFFSETFROM:-0400
TZOFFSETTO:-0500
TZNAME:EST
END:STANDARD
END:VTIMEZONE
END:VCALENDAR