BEGIN:VCALENDAR
VERSION:2.0
PRODID:-//wp-events-plugin.com//7.2.2.1//EN
TZID:America/Toronto
X-WR-TIMEZONE:America/Toronto
BEGIN:VEVENT
UID:86@womenshealthresearchcluster.com
DTSTART;TZID=America/Vancouver:20210623T140000
DTEND;TZID=America/Vancouver:20210623T143000
DTSTAMP:20250107T171625Z
URL:https://womenshealthresearchcluster.com/events/may-27-2021-mitacs-info
 rmation-session/
SUMMARY:Mitacs Information Session
DESCRIPTION:Women's Health Research Cluster in partnership with Action on S
 epsis is offering the opportunity for health research trainees to learn h
 ow they can get a paid reesearch position with Mitacs funding. Following
  a presentation about Mitacs funding programs\, students can dig into det
 ails about the application process\, project eligibility and how they can 
 get support in finding collaborators. Don't miss out as Mitacs has recenlt
 y expanded their eligibility criteria to include undergraduate students a
 nd has added a new funding program to their roster.\nAgenda\n2:00- 2:15pm
  - Presentation and Q&amp\;A with Mitacs representative\n2:15-2:30 - Ope
 n Q&amp\;A with Mitacs represensative\n\n&nbsp\;
ATTACH;FMTTYPE=image/jpeg:https://womenshealthresearchcluster.com/wp-conte
 nt/uploads/2024/11/event_banner_aos_workshop_.jpg
CATEGORIES:Other
END:VEVENT
BEGIN:VTIMEZONE
TZID:America/Vancouver
X-LIC-LOCATION:America/Vancouver
BEGIN:DAYLIGHT
DTSTART:20210314T030000
TZOFFSETFROM:-0800
TZOFFSETTO:-0700
TZNAME:PDT
END:DAYLIGHT
END:VTIMEZONE
END:VCALENDAR